BEGIN:VCALENDAR
VERSION:2.0
PRODID:SchoolNow
CALSCALE:GREGORIAN
BEGIN:VEVENT
UID:4c62991a-3796-11f1-8157-0a58a9feac02
DTSTAMP:20260422T025008Z
SUMMARY:Senior Thesis Day
LOCATION:Griffin Center
URL;VALUE=URI:https://www.aristoiclassical.org/aklr/calendar/8991690/senior
 -thesis-day
DTSTART;VALUE=DATE:20260421
DTEND;VALUE=DATE:20260422
END:VEVENT
END:VCALENDAR
