BEGIN:VCALENDAR
VERSION:2.0
PRODID:SchoolNow
CALSCALE:GREGORIAN
BEGIN:VEVENT
UID:7303a4a4-20e1-11f1-b64c-0a58a9feac02
DTSTAMP:20260422T025008Z
SUMMARY:School Board Meeting
URL;VALUE=URI:https://www.aristoiclassical.org/aklr/calendar/8921004/school
 -board-meeting
DTSTART:20271115T233000Z
DTEND:20271116T020000Z
END:VEVENT
END:VCALENDAR
