BEGIN:VCALENDAR
VERSION:2.0
PRODID:SchoolNow
CALSCALE:GREGORIAN
BEGIN:VEVENT
UID:a2a8e622-0c2a-11f1-846a-0a58a9feac02
DTSTAMP:20260422T025008Z
SUMMARY:School Board Meeting
URL;VALUE=URI:https://www.aristoiclassical.org/aklr/calendar/8857783/school
 -board-meeting
DTSTART:20270920T223000Z
DTEND:20270921T010000Z
END:VEVENT
END:VCALENDAR
