BEGIN:VCALENDAR
VERSION:2.0
PRODID:SchoolNow
CALSCALE:GREGORIAN
BEGIN:VEVENT
UID:7e912972-9806-11f0-8e0f-02c50ef1dad5
DTSTAMP:20260421T204509Z
SUMMARY:School Board Meeting
URL;VALUE=URI:https://www.aristoiclassical.org/aklr/calendar/8654440/school
 -board-meeting
DTSTART:20270517T223000Z
DTEND:20270518T010000Z
END:VEVENT
END:VCALENDAR
