BEGIN:VCALENDAR
VERSION:2.0
PRODID:SchoolNow
CALSCALE:GREGORIAN
BEGIN:VEVENT
UID:ea16b99e-7df0-11f0-b9b6-0a58a9feac02
DTSTAMP:20260421T204509Z
SUMMARY:School Board Meeting
URL;VALUE=URI:https://www.aristoiclassical.org/aklr/calendar/8525782/school
 -board-meeting
DTSTART:20270419T223000Z
DTEND:20270420T010000Z
END:VEVENT
END:VCALENDAR
