BEGIN:VCALENDAR
VERSION:2.0
PRODID:SchoolNow
CALSCALE:GREGORIAN
BEGIN:VEVENT
UID:4147c150-4795-11f0-9d68-0e21ddae655d
DTSTAMP:20260421T023009Z
SUMMARY:Coffee with Head of Logic & Rhetoric\, Dr. Cimpean
LOCATION:Griffin Cafeteria
URL;VALUE=URI:https://www.aristoiclassical.org/aklr/calendar/8292456/coffee
 -with-head-of-logic-rhetoric-dr-cimpean
DTSTART:20260710T131500Z
DTEND:20260710T140000Z
END:VEVENT
END:VCALENDAR
