BEGIN:VCALENDAR
VERSION:2.0
PRODID:SchoolNow
CALSCALE:GREGORIAN
BEGIN:VEVENT
UID:409ac568-4795-11f0-a308-0e21ddae655d
DTSTAMP:20260421T023009Z
SUMMARY:Rhetoric Theater Audtions
URL;VALUE=URI:https://www.aristoiclassical.org/aklr/calendar/8292332/rhetor
 ic-theater-audtions
DTSTART;VALUE=DATE:20260115
DTEND;VALUE=DATE:20260116
END:VEVENT
END:VCALENDAR
