BEGIN:VCALENDAR
VERSION:2.0
PRODID:SchoolNow
CALSCALE:GREGORIAN
BEGIN:VEVENT
UID:3fe0c712-4795-11f0-8d0b-0e21ddae655d
DTSTAMP:20260419T075509Z
SUMMARY:Theater Rehearsals
LOCATION:Griffin Stage
URL;VALUE=URI:https://www.aristoiclassical.org/aklr/calendar/8292181/theate
 r-rehearsals
DTSTART:20260209T215000Z
DTEND:20260209T233000Z
END:VEVENT
END:VCALENDAR
