BEGIN:VCALENDAR
VERSION:2.0
PRODID:SchoolNow
CALSCALE:GREGORIAN
BEGIN:VEVENT
UID:3fe0afca-4795-11f0-8a88-0e21ddae655d
DTSTAMP:20260421T083508Z
SUMMARY:Year-End Appeal
URL;VALUE=URI:https://www.aristoiclassical.org/aklr/calendar/8292155/year-e
 nd-appeal
DTSTART;VALUE=DATE:20251201
DTEND;VALUE=DATE:20260101
END:VEVENT
END:VCALENDAR
