BEGIN:VCALENDAR
VERSION:2.0
PRODID:SchoolNow
CALSCALE:GREGORIAN
BEGIN:VEVENT
UID:a0710064-3fdf-11f0-a798-0a58a9feac02
DTSTAMP:20260421T144009Z
SUMMARY:School Board Meeting
URL;VALUE=URI:https://www.aristoiclassical.org/aklr/calendar/8241081/school
 -board-meeting
DTSTART:20270118T233000Z
DTEND:20270119T020000Z
END:VEVENT
END:VCALENDAR
