BEGIN:VCALENDAR
VERSION:2.0
PRODID:SchoolNow
CALSCALE:GREGORIAN
BEGIN:VEVENT
UID:e90bbf4a-2067-11f0-9d93-0a58a9feac02
DTSTAMP:20260421T144009Z
SUMMARY:School Board Meeting
URL;VALUE=URI:https://www.aristoiclassical.org/aklr/calendar/7992091/school
 -board-meeting
DTSTART:20261221T233000Z
DTEND:20261222T020000Z
END:VEVENT
END:VCALENDAR
