BEGIN:VCALENDAR
VERSION:2.0
PRODID:SchoolNow
CALSCALE:GREGORIAN
BEGIN:VEVENT
UID:53c8d35c-f09a-11ef-8c70-0afff1897dc3
DTSTAMP:20260421T083508Z
SUMMARY:School Board Meeting
URL;VALUE=URI:https://www.aristoiclassical.org/aklr/calendar/7518223/school
 -board-meeting
DTSTART:20261019T223000Z
DTEND:20261020T010000Z
END:VEVENT
END:VCALENDAR
