BEGIN:VCALENDAR
VERSION:2.0
PRODID:SchoolNow
CALSCALE:GREGORIAN
BEGIN:VEVENT
UID:904c4760-79ac-11ef-bebf-0afffe9baad1
DTSTAMP:20260420T081509Z
SUMMARY:School Board Meeting
URL;VALUE=URI:https://www.aristoiclassical.org/aklr/calendar/6670653/school
 -board-meeting
DTSTART:20260518T223000Z
DTEND:20260519T010000Z
END:VEVENT
END:VCALENDAR
