BEGIN:VCALENDAR
VERSION:2.0
PRODID:SchoolNow
CALSCALE:GREGORIAN
BEGIN:VEVENT
UID:602064ca-3d98-11f1-a5af-0a58a9feac02
DTSTAMP:20260422T154509Z
SUMMARY:School Board Meeting
URL;VALUE=URI:https://www.aristoiclassical.org/ac/calendar/9009602/school-b
 oard-meeting
DTSTART:20271220T233000Z
DTEND:20271221T020000Z
END:VEVENT
END:VCALENDAR
