BEGIN:VCALENDAR
VERSION:2.0
PRODID:SchoolNow
CALSCALE:GREGORIAN
BEGIN:VEVENT
UID:350a81fe-38dd-11f1-b248-0ec389feefad
DTSTAMP:20260420T153508Z
SUMMARY:EB Community Event: Summer Reading & Math Strategies
LOCATION:Zoom
URL;VALUE=URI:https://www.aristoiclassical.org/ac/calendar/8995897/eb-commu
 nity-event-summer-reading-math-strategies
DTSTART:20260513T233000Z
DTEND:20260514T000000Z
END:VEVENT
END:VCALENDAR
