BEGIN:VCALENDAR
VERSION:2.0
PRODID:SchoolNow
CALSCALE:GREGORIAN
BEGIN:VEVENT
UID:86c2a518-0e48-11f1-ba3e-0a58a9feac02
DTSTAMP:20260420T153508Z
SUMMARY:ACBC General Meeting
LOCATION:School Lobby
URL;VALUE=URI:https://www.aristoiclassical.org/ac/calendar/8861906/acbc-gen
 eral-meeting
DTSTART:20260304T140000Z
DTEND:20260304T150000Z
END:VEVENT
END:VCALENDAR
