BEGIN:VCALENDAR
VERSION:2.0
PRODID:SchoolNow
CALSCALE:GREGORIAN
BEGIN:VEVENT
UID:a96cd176-0d7e-11f1-a378-0affc661f03d
DTSTAMP:20260422T154509Z
SUMMARY:School Board Meeting
URL;VALUE=URI:https://www.aristoiclassical.org/ac/calendar/8860265/school-b
 oard-meeting
DTSTART:20271018T223000Z
DTEND:20271019T010000Z
END:VEVENT
END:VCALENDAR
