BEGIN:VCALENDAR
VERSION:2.0
PRODID:SchoolNow
CALSCALE:GREGORIAN
BEGIN:VEVENT
UID:6d9be85c-033e-11f1-a7e6-020abf7099bb
DTSTAMP:20260420T153508Z
SUMMARY:Coffee with Headmaster\, Mark Pertuso
LOCATION:Aristoi Cypress Foyer
URL;VALUE=URI:https://www.aristoiclassical.org/ac/calendar/8850375/coffee-w
 ith-headmaster-mark-pertuso
DTSTART:20260515T133000Z
DTEND:20260515T141500Z
END:VEVENT
END:VCALENDAR
