BEGIN:VCALENDAR
VERSION:2.0
PRODID:SchoolNow
CALSCALE:GREGORIAN
BEGIN:VEVENT
UID:b3238730-01aa-11f1-b0c0-0a58a9feac02
DTSTAMP:20260420T153508Z
SUMMARY:Casual Dress for Reaching $50\,000 Goal
URL;VALUE=URI:https://www.aristoiclassical.org/ac/calendar/8849254/casual-d
 ress-for-reaching-50-000-goal
DTSTART;VALUE=DATE:20260312
DTEND;VALUE=DATE:20260313
END:VEVENT
END:VCALENDAR
