BEGIN:VCALENDAR
VERSION:2.0
PRODID:SchoolNow
CALSCALE:GREGORIAN
BEGIN:VEVENT
UID:5e571744-ec60-11f0-8da7-0a58a9feac02
DTSTAMP:20260421T154008Z
SUMMARY:PTO Sponsored Staff Luncheon
URL;VALUE=URI:https://www.aristoiclassical.org/ac/calendar/8832718/pto-spon
 sored-staff-luncheon
DTSTART;VALUE=DATE:20260107
DTEND;VALUE=DATE:20260108
END:VEVENT
END:VCALENDAR
