BEGIN:VCALENDAR
VERSION:2.0
PRODID:SchoolNow
CALSCALE:GREGORIAN
BEGIN:VEVENT
UID:5e571474-ec60-11f0-9972-0a58a9feac02
DTSTAMP:20260421T154008Z
SUMMARY:PTO Blood Drive
URL;VALUE=URI:https://www.aristoiclassical.org/ac/calendar/8832717/pto-bloo
 d-drive
DTSTART:20260123T150000Z
DTEND:20260123T201500Z
END:VEVENT
END:VCALENDAR
