BEGIN:VCALENDAR
VERSION:2.0
PRODID:SchoolNow
CALSCALE:GREGORIAN
BEGIN:VEVENT
UID:5e57135c-ec60-11f0-92ad-0a58a9feac02
DTSTAMP:20260421T154008Z
SUMMARY:National Winnie the Pooh Day
URL;VALUE=URI:https://www.aristoiclassical.org/ac/calendar/8832716/national
 -winnie-the-pooh-day
DTSTART;VALUE=DATE:20260116
DTEND;VALUE=DATE:20260117
END:VEVENT
END:VCALENDAR
