BEGIN:VCALENDAR
VERSION:2.0
PRODID:SchoolNow
CALSCALE:GREGORIAN
BEGIN:VEVENT
UID:5e570f42-ec60-11f0-9199-0a58a9feac02
DTSTAMP:20260421T154008Z
SUMMARY:PTO Fun Friday at the Park
LOCATION:Russ Poppe Family Park\, 11675 Grant Rd\, Houston\, TX 77070\, USA
URL;VALUE=URI:https://www.aristoiclassical.org/ac/calendar/8832715/pto-fun-
 friday-at-the-park
DTSTART;VALUE=DATE:20260123
DTEND;VALUE=DATE:20260124
END:VEVENT
END:VCALENDAR
