BEGIN:VCALENDAR
VERSION:2.0
PRODID:SchoolNow
CALSCALE:GREGORIAN
BEGIN:VEVENT
UID:5e570952-ec60-11f0-887f-0a58a9feac02
DTSTAMP:20260421T154008Z
SUMMARY:PTO General Meeting After Morning Carline
URL;VALUE=URI:https://www.aristoiclassical.org/ac/calendar/8832713/pto-gene
 ral-meeting-after-morning-carline
DTSTART;VALUE=DATE:20260121
DTEND;VALUE=DATE:20260122
END:VEVENT
END:VCALENDAR
