BEGIN:VCALENDAR
VERSION:2.0
PRODID:SchoolNow
CALSCALE:GREGORIAN
BEGIN:VEVENT
UID:5df65652-ec60-11f0-801b-0a58a9feac02
DTSTAMP:20260421T154008Z
SUMMARY:PTO Spirit Night @ Chick-fil-A
LOCATION:Chick-fil-A\, 21622 TX-249\, Houston\, TX 77070\, USA
URL;VALUE=URI:https://www.aristoiclassical.org/ac/calendar/8832712/pto-spir
 it-night-chick-fil-a
DTSTART;VALUE=DATE:20260115
DTEND;VALUE=DATE:20260116
END:VEVENT
END:VCALENDAR
