BEGIN:VCALENDAR
VERSION:2.0
PRODID:SchoolNow
CALSCALE:GREGORIAN
BEGIN:VEVENT
UID:15911836-dc9b-11f0-93da-0a58a9feac02
DTSTAMP:20260421T154008Z
SUMMARY:School Board Meeting
URL;VALUE=URI:https://www.aristoiclassical.org/ac/calendar/8826330/school-b
 oard-meeting
DTSTART:20270816T223000Z
DTEND:20270817T010000Z
END:VEVENT
END:VCALENDAR
