BEGIN:VCALENDAR
VERSION:2.0
PRODID:SchoolNow
CALSCALE:GREGORIAN
BEGIN:VEVENT
UID:158ca5ee-dc9b-11f0-a8b1-0a58a9feac02
DTSTAMP:20260420T153508Z
SUMMARY:15th Annual Cypress Gala Date
LOCATION:House Estate\, 15743 House Rd\, Hockley\, TX 77447\, USA
URL;VALUE=URI:https://www.aristoiclassical.org/ac/calendar/8826329/15th-ann
 ual-cypress-gala-date
DTSTART:20260418T230000Z
DTEND:20260419T020000Z
END:VEVENT
END:VCALENDAR
