BEGIN:VCALENDAR
VERSION:2.0
PRODID:SchoolNow
CALSCALE:GREGORIAN
BEGIN:VEVENT
UID:077d68fc-c5bd-11f0-9e3b-0affd4f2af2f
DTSTAMP:20260421T154008Z
SUMMARY:School Board Meeting
URL;VALUE=URI:https://www.aristoiclassical.org/ac/calendar/8804838/school-b
 oard-meeting
DTSTART:20270719T223000Z
DTEND:20270720T010000Z
END:VEVENT
END:VCALENDAR
