BEGIN:VCALENDAR
VERSION:2.0
PRODID:SchoolNow
CALSCALE:GREGORIAN
BEGIN:VEVENT
UID:7200d06a-b91f-11f0-af11-02cffbc81c1b
DTSTAMP:20260421T154008Z
SUMMARY:School Board Meeting
URL;VALUE=URI:https://www.aristoiclassical.org/ac/calendar/8774332/school-b
 oard-meeting
DTSTART:20270621T223000Z
DTEND:20270622T010000Z
END:VEVENT
END:VCALENDAR
