BEGIN:VCALENDAR
VERSION:2.0
PRODID:SchoolNow
CALSCALE:GREGORIAN
BEGIN:VEVENT
UID:bbf2bfd2-7877-11f0-b869-02d556b95527
DTSTAMP:20260420T153508Z
SUMMARY:ACBC Spirit Carts
URL;VALUE=URI:https://www.aristoiclassical.org/ac/calendar/8505012/acbc-spi
 rit-carts
DTSTART;VALUE=DATE:20260429
DTEND;VALUE=DATE:20260501
END:VEVENT
END:VCALENDAR
