BEGIN:VCALENDAR
VERSION:2.0
PRODID:SchoolNow
CALSCALE:GREGORIAN
BEGIN:VEVENT
UID:bbf2bc30-7877-11f0-bb9c-02d556b95527
DTSTAMP:20260421T154008Z
SUMMARY:ACBC Spirit Carts
URL;VALUE=URI:https://www.aristoiclassical.org/ac/calendar/8505011/acbc-spi
 rit-carts
DTSTART;VALUE=DATE:20260128
DTEND;VALUE=DATE:20260130
END:VEVENT
END:VCALENDAR
