BEGIN:VCALENDAR
VERSION:2.0
PRODID:SchoolNow
CALSCALE:GREGORIAN
BEGIN:VEVENT
UID:69b36a68-7486-11f0-b67d-0affde711a6f
DTSTAMP:20260420T153508Z
SUMMARY:Aristoi Cypress Booster Club Meeting
LOCATION:TBD
URL;VALUE=URI:https://www.aristoiclassical.org/ac/calendar/8483847/aristoi-
 cypress-booster-club-meeting
DTSTART;VALUE=DATE:20260506
DTEND;VALUE=DATE:20260507
END:VEVENT
END:VCALENDAR
