BEGIN:VCALENDAR
VERSION:2.0
PRODID:SchoolNow
CALSCALE:GREGORIAN
BEGIN:VEVENT
UID:69b36964-7486-11f0-9b33-0affde711a6f
DTSTAMP:20260421T154008Z
SUMMARY:Aristoi Cypress Booster Club Meeting
URL;VALUE=URI:https://www.aristoiclassical.org/ac/calendar/8483846/aristoi-
 cypress-booster-club-meeting
DTSTART;VALUE=DATE:20260114
DTEND;VALUE=DATE:20260115
END:VEVENT
END:VCALENDAR
