BEGIN:VCALENDAR
VERSION:2.0
PRODID:SchoolNow
CALSCALE:GREGORIAN
BEGIN:VEVENT
UID:e06898b2-6a46-11f0-bb4e-0affc9617fed
DTSTAMP:20260421T154008Z
SUMMARY:School Board Meeting
URL;VALUE=URI:https://www.aristoiclassical.org/ac/calendar/8448329/school-b
 oard-meeting
DTSTART:20270315T223000Z
DTEND:20270316T010000Z
END:VEVENT
END:VCALENDAR
