BEGIN:VCALENDAR
VERSION:2.0
PRODID:SchoolNow
CALSCALE:GREGORIAN
BEGIN:VEVENT
UID:330c2a8e-575a-11f0-a92f-0a58a9feac02
DTSTAMP:20260420T153508Z
SUMMARY:Booster Club Snack Sale (K - 10th)
URL;VALUE=URI:https://www.aristoiclassical.org/ac/calendar/8377468/booster-
 club-snack-sale-k-10th
DTSTART;VALUE=DATE:20260505
DTEND;VALUE=DATE:20260506
END:VEVENT
END:VCALENDAR
