BEGIN:VCALENDAR
VERSION:2.0
PRODID:SchoolNow
CALSCALE:GREGORIAN
BEGIN:VEVENT
UID:330c2994-575a-11f0-9118-0a58a9feac02
DTSTAMP:20260420T153508Z
SUMMARY:Booster Club Snack Sale (K - 10th)
URL;VALUE=URI:https://www.aristoiclassical.org/ac/calendar/8377467/booster-
 club-snack-sale-k-10th
DTSTART;VALUE=DATE:20260305
DTEND;VALUE=DATE:20260306
END:VEVENT
END:VCALENDAR
