BEGIN:VCALENDAR
VERSION:2.0
PRODID:SchoolNow
CALSCALE:GREGORIAN
BEGIN:VEVENT
UID:330c2886-575a-11f0-82c7-0a58a9feac02
DTSTAMP:20260421T154008Z
SUMMARY:Booster Club Snack Sale @ K-10
LOCATION:Crossover Campus
URL;VALUE=URI:https://www.aristoiclassical.org/ac/calendar/8377466/booster-
 club-snack-sale-k-10
DTSTART;VALUE=DATE:20260122
DTEND;VALUE=DATE:20260123
END:VEVENT
END:VCALENDAR
