BEGIN:VCALENDAR
VERSION:2.0
PRODID:SchoolNow
CALSCALE:GREGORIAN
BEGIN:VEVENT
UID:330c23ae-575a-11f0-ba1f-0a58a9feac02
DTSTAMP:20260420T153508Z
SUMMARY:PTO Read-a-thon
URL;VALUE=URI:https://www.aristoiclassical.org/ac/calendar/8377464/pto-read
 -a-thon
DTSTART;VALUE=DATE:20260212
DTEND;VALUE=DATE:20260228
END:VEVENT
END:VCALENDAR
