BEGIN:VCALENDAR
VERSION:2.0
PRODID:SchoolNow
CALSCALE:GREGORIAN
BEGIN:VEVENT
UID:68da217e-55c6-11f0-b8bc-0a58a9feac02
DTSTAMP:20260420T153508Z
SUMMARY:7/8th grade dance
LOCATION:TBD
URL;VALUE=URI:https://www.aristoiclassical.org/ac/calendar/8369969/7-8th-gr
 ade-dance
DTSTART:20260411T230000Z
DTEND:20260412T010000Z
END:VEVENT
END:VCALENDAR
