BEGIN:VCALENDAR
VERSION:2.0
PRODID:SchoolNow
CALSCALE:GREGORIAN
BEGIN:VEVENT
UID:d167b22a-5368-11f0-bec1-02b15ba6cbb7
DTSTAMP:20260421T154008Z
SUMMARY:School Board Meeting
URL;VALUE=URI:https://www.aristoiclassical.org/ac/calendar/8360751/school-b
 oard-meeting
DTSTART:20270215T233000Z
DTEND:20270216T020000Z
END:VEVENT
END:VCALENDAR
