BEGIN:VCALENDAR
VERSION:2.0
PRODID:SchoolNow
CALSCALE:GREGORIAN
BEGIN:VEVENT
UID:d156c8de-5368-11f0-8e44-02b15ba6cbb7
DTSTAMP:20260420T153508Z
SUMMARY:AP Exam - Physics C: Electricity & Magnetism
URL;VALUE=URI:https://www.aristoiclassical.org/ac/calendar/8360750/ap-exam-
 physics-c-electricity-magnetism
DTSTART;VALUE=DATE:20260514
DTEND;VALUE=DATE:20260515
END:VEVENT
END:VCALENDAR
