BEGIN:VCALENDAR
VERSION:2.0
PRODID:SchoolNow
CALSCALE:GREGORIAN
BEGIN:VEVENT
UID:d156c7f8-5368-11f0-9020-02b15ba6cbb7
DTSTAMP:20260420T153508Z
SUMMARY:AP Exam - English Language and Composition & Physics C: Mechanics
URL;VALUE=URI:https://www.aristoiclassical.org/ac/calendar/8360749/ap-exam-
 english-language-and-composition-physics-c-mechanics
DTSTART;VALUE=DATE:20260513
DTEND;VALUE=DATE:20260514
END:VEVENT
END:VCALENDAR
