BEGIN:VCALENDAR
VERSION:2.0
PRODID:SchoolNow
CALSCALE:GREGORIAN
BEGIN:VEVENT
UID:d156c712-5368-11f0-baa9-02b15ba6cbb7
DTSTAMP:20260420T153508Z
SUMMARY:AP Exam - Calculus AB/BC
URL;VALUE=URI:https://www.aristoiclassical.org/ac/calendar/8360748/ap-exam-
 calculus-ab-bc
DTSTART;VALUE=DATE:20260511
DTEND;VALUE=DATE:20260512
END:VEVENT
END:VCALENDAR
