BEGIN:VCALENDAR
VERSION:2.0
PRODID:SchoolNow
CALSCALE:GREGORIAN
BEGIN:VEVENT
UID:d156c622-5368-11f0-ba6a-02b15ba6cbb7
DTSTAMP:20260420T153508Z
SUMMARY:AP Exam - US History
URL;VALUE=URI:https://www.aristoiclassical.org/ac/calendar/8360747/ap-exam-
 us-history
DTSTART;VALUE=DATE:20260508
DTEND;VALUE=DATE:20260509
END:VEVENT
END:VCALENDAR
