BEGIN:VCALENDAR
VERSION:2.0
PRODID:SchoolNow
CALSCALE:GREGORIAN
BEGIN:VEVENT
UID:d156c532-5368-11f0-99fd-02b15ba6cbb7
DTSTAMP:20260420T153508Z
SUMMARY:AP Exam - Physics 1
URL;VALUE=URI:https://www.aristoiclassical.org/ac/calendar/8360746/ap-exam-
 physics-1
DTSTART;VALUE=DATE:20260506
DTEND;VALUE=DATE:20260507
END:VEVENT
END:VCALENDAR
