BEGIN:VCALENDAR
VERSION:2.0
PRODID:SchoolNow
CALSCALE:GREGORIAN
BEGIN:VEVENT
UID:d156c42e-5368-11f0-a515-02b15ba6cbb7
DTSTAMP:20260420T153508Z
SUMMARY:AP Exam - Statistics & Physics 2
URL;VALUE=URI:https://www.aristoiclassical.org/ac/calendar/8360745/ap-exam-
 statistics-physics-2
DTSTART;VALUE=DATE:20260507
DTEND;VALUE=DATE:20260508
END:VEVENT
END:VCALENDAR
