BEGIN:VCALENDAR
VERSION:2.0
PRODID:SchoolNow
CALSCALE:GREGORIAN
BEGIN:VEVENT
UID:d156c30c-5368-11f0-af7a-02b15ba6cbb7
DTSTAMP:20260420T153508Z
SUMMARY:AP Exam - US Government & Politics
URL;VALUE=URI:https://www.aristoiclassical.org/ac/calendar/8360744/ap-exam-
 us-government-politics
DTSTART;VALUE=DATE:20260505
DTEND;VALUE=DATE:20260506
END:VEVENT
END:VCALENDAR
