BEGIN:VCALENDAR
VERSION:2.0
PRODID:SchoolNow
CALSCALE:GREGORIAN
BEGIN:VEVENT
UID:d156c172-5368-11f0-bf9c-02b15ba6cbb7
DTSTAMP:20260420T153508Z
SUMMARY:AP Exam - European History & Latin
URL;VALUE=URI:https://www.aristoiclassical.org/ac/calendar/8360743/ap-exam-
 european-history-latin
DTSTART;VALUE=DATE:20260504
DTEND;VALUE=DATE:20260505
END:VEVENT
END:VCALENDAR
