BEGIN:VCALENDAR
VERSION:2.0
PRODID:SchoolNow
CALSCALE:GREGORIAN
BEGIN:VEVENT
UID:2daad9a2-4795-11f0-864e-02579766d9f7
DTSTAMP:20260420T153508Z
SUMMARY:Patriots' Day
URL;VALUE=URI:https://www.aristoiclassical.org/ac/calendar/8291900/patriots
 -day
DTSTART;VALUE=DATE:20260419
DTEND;VALUE=DATE:20260420
END:VEVENT
END:VCALENDAR
