BEGIN:VCALENDAR
VERSION:2.0
PRODID:SchoolNow
CALSCALE:GREGORIAN
BEGIN:VEVENT
UID:2daad8c6-4795-11f0-9ba0-02579766d9f7
DTSTAMP:20260420T153508Z
SUMMARY:No Dress Code Violations ALL Year - Casual Dress Day
URL;VALUE=URI:https://www.aristoiclassical.org/ac/calendar/8291899/no-dress
 -code-violations-all-year-casual-dress-day
DTSTART;VALUE=DATE:20260521
DTEND;VALUE=DATE:20260522
END:VEVENT
END:VCALENDAR
